BEGIN:VCALENDAR
VERSION:2.0
PRODID:https://kyudotermine.de/
BEGIN:VEVENT
UID:223@kyuvb.de
SUMMARY:Bundeslehrgang Trainerfortbildung A/B
DESCRIPTION:Trainer-Fortbildung für lizensierte B- und A-Trainer
CLASS:PUBLIC
DTSTART;VALUE=DATE:20141122
DTEND;VALUE=DATE:20141124
DTSTAMP:20260421T081249Z
LOCATION:Hamburg
URL:https://kyudotermine.de/detail.php?id=223
ATTACH;FMTTYPE=application/pdf:https://kyuvb.de/../media/events/223/Ausschreibung%20BuL%20Trainer%20B-Fortbildung.pdf
END:VEVENT
END:VCALENDAR
