BEGIN:VCALENDAR
VERSION:2.0
PRODID:https://kyudotermine.de/
BEGIN:VEVENT
UID:224@kyuvb.de
SUMMARY:Bundeslehrgang Material
DESCRIPTION:Materiallehrgang mit Fritz Eicher
CLASS:PUBLIC
DTSTART;VALUE=DATE:20141011
DTEND;VALUE=DATE:20141013
DTSTAMP:20260421T084055Z
LOCATION:Bad Dürkheim
URL:https://kyudotermine.de/detail.php?id=224
ATTACH;FMTTYPE=application/pdf:https://kyuvb.de/../media/events/224/BuL%20Material%202014.pdf
END:VEVENT
END:VCALENDAR
