BEGIN:VCALENDAR
VERSION:2.0
PRODID:https://kyudotermine.de/
BEGIN:VEVENT
UID:226@kyuvb.de
SUMMARY:Prüfungslehrgang
DESCRIPTION:Landeslehrgang zur Prüfungsvorbereitung bis 1. Kyu.
CLASS:PUBLIC
DTSTART;VALUE=DATE:20141122
DTEND;VALUE=DATE:20141124
DTSTAMP:20260421T081319Z
LOCATION:Bad Dürkheim
URL:https://kyudotermine.de/detail.php?id=226
ATTACH;FMTTYPE=application/pdf:https://kyuvb.de/../media/events/226/Pr%C3%BCfungslehrgang2014.pdf
END:VEVENT
END:VCALENDAR
