BEGIN:VCALENDAR
VERSION:2.0
PRODID:https://kyudotermine.de/
BEGIN:VEVENT
UID:230@kyuvb.de
SUMMARY:Prüfung zum 5. und 4. Kyu
DESCRIPTION:Prüfungsgelegenheit zum 5. und 4. Kyu.
CLASS:PUBLIC
DTSTART;VALUE=DATE:20141217
DTEND;VALUE=DATE:20141218
DTSTAMP:20260421T081320Z
LOCATION:München
URL:https://kyudotermine.de/detail.php?id=230
ATTACH;FMTTYPE=application/pdf:https://kyuvb.de/../media/events/230/Pr%C3%BCfung_5.-4._Kyu_am_17.12.2014_in_M%C3%BCnchen.pdf
END:VEVENT
END:VCALENDAR
