BEGIN:VCALENDAR
VERSION:2.0
PRODID:https://kyudotermine.de/
BEGIN:VEVENT
UID:28@kyuvb.de
SUMMARY:Bundeslehrgang Dan-Prüfungsvorbereitung
DESCRIPTION:Lehrgang zur Vorbereitung auf die Dan-Prüfungen
CLASS:PUBLIC
DTSTART;VALUE=DATE:20120512
DTEND;VALUE=DATE:20120513
DTSTAMP:20260419T202537Z
LOCATION:Hamburg
URL:https://kyudotermine.de/detail.php?id=28
ATTACH;FMTTYPE=application/pdf:https://kyuvb.de/../media/events/28/Dan-Pruefungsvorbereitung_Ausschreibung.pdf
END:VEVENT
END:VCALENDAR
