BEGIN:VCALENDAR
VERSION:2.0
PRODID:https://kyudotermine.de/
BEGIN:VEVENT
UID:283@kyuvb.de
SUMMARY:Prüfungslehrgang bis 1. Kyu
DESCRIPTION:Landeslehrgang des LV Niedersachsen
CLASS:PUBLIC
DTSTART;VALUE=DATE:20151010
DTEND;VALUE=DATE:20151011
DTSTAMP:20260422T085916Z
LOCATION:Göttingen
URL:https://kyudotermine.de/detail.php?id=283
ATTACH;FMTTYPE=application/pdf:https://kyuvb.de/../media/events/283/AusschreibungPr%C3%BCfungsseminar2015.pdf
END:VEVENT
END:VCALENDAR
