BEGIN:VCALENDAR
VERSION:2.0
PRODID:https://kyudotermine.de/
BEGIN:VEVENT
UID:290@kyuvb.de
SUMMARY:Landeslehrgang zur Prüfungsvorbereitung für 2. und 1. Kyu
DESCRIPTION:Eintägiger Landeslehrgang mit Prüfungsmöglicheit
CLASS:PUBLIC
DTSTART;VALUE=DATE:20151121
DTEND;VALUE=DATE:20151122
DTSTAMP:20260420T091628Z
LOCATION:Hamburg
URL:https://kyudotermine.de/detail.php?id=290
ATTACH;FMTTYPE=application/pdf:https://kyuvb.de/../media/events/290/Kyudo-Pr%C3%BCfung%20HH%20nov.%2015.pdf
END:VEVENT
END:VCALENDAR
