BEGIN:VCALENDAR
VERSION:2.0
PRODID:https://kyudotermine.de/
BEGIN:VEVENT
UID:30@kyuvb.de
SUMMARY:ANKF/IKYF-B-Seminar
DESCRIPTION:B-Seminar in Paris\, nähere Informationen beim <a href="http://kyudo.de/ankf-pr%C3%BCfungen-2011/">DKyuB</a>
CLASS:PUBLIC
DTSTART;VALUE=DATE:20120719
DTEND;VALUE=DATE:20120723
DTSTAMP:20260419T202635Z
LOCATION:Paris
URL:https://kyudotermine.de/detail.php?id=30
END:VEVENT
END:VCALENDAR
