BEGIN:VCALENDAR
VERSION:2.0
PRODID:https://kyudotermine.de/
BEGIN:VEVENT
UID:31@kyuvb.de
SUMMARY:ANKF/IKYF-A-Seminar
DESCRIPTION:A-Seminar in Paris\, nähere Informationen beim <a href="http://kyudo.de/ankf-pr%C3%BCfungen-2011/">DKyuB</a>
CLASS:PUBLIC
DTSTART;VALUE=DATE:20120724
DTEND;VALUE=DATE:20120728
DTSTAMP:20260419T202718Z
LOCATION:Paris
URL:https://kyudotermine.de/detail.php?id=31
END:VEVENT
END:VCALENDAR
