BEGIN:VCALENDAR
VERSION:2.0
PRODID:https://kyudotermine.de/
BEGIN:VEVENT
UID:32@kyuvb.de
SUMMARY:First Sekai Kyudo Koryu Enbu Kai
DESCRIPTION:First Sekai Kyudo Koryu Enbu Kai\, nähere Informationen beim <a href="http://kyudo.de/ankf-pr%C3%BCfungen-2011/">DKyuB</a>
CLASS:PUBLIC
DTSTART;VALUE=DATE:20120723
DTEND;VALUE=DATE:20120724
DTSTAMP:20260419T202537Z
LOCATION:Paris
URL:https://kyudotermine.de/detail.php?id=32
END:VEVENT
END:VCALENDAR
