BEGIN:VCALENDAR
VERSION:2.0
PRODID:https://kyudotermine.de/
BEGIN:VEVENT
UID:33@kyuvb.de
SUMMARY:Drachen-Frühlingsfest
DESCRIPTION:Drachen-Frühlingsfest in Weilheim. Enteki-Veranstaltung\, auch für Enteki-Anfänger geeignet.
CLASS:PUBLIC
DTSTART;VALUE=DATE:20120506
DTEND;VALUE=DATE:20120507
DTSTAMP:20260419T221043Z
LOCATION:Weilheim
URL:https://kyudotermine.de/detail.php?id=33
ATTACH;FMTTYPE=application/pdf:https://kyuvb.de/../media/events/33/Einladung_Drachen-Fr%C3%BChlingsfest.pdf
END:VEVENT
END:VCALENDAR
