BEGIN:VCALENDAR
VERSION:2.0
PRODID:https://kyudotermine.de/
BEGIN:VEVENT
UID:34@kyuvb.de
SUMMARY:Bundeslehrgang
DESCRIPTION:Bundeslehrgang zur Dan-Prüfungsvorbereitung 2012
CLASS:PUBLIC
DTSTART;VALUE=DATE:20120519
DTEND;VALUE=DATE:20120521
DTSTAMP:20260419T202635Z
LOCATION:Bad Dürkheim
URL:https://kyudotermine.de/detail.php?id=34
ATTACH;FMTTYPE=application/pdf:https://kyuvb.de/../media/events/34/Danvorbereitung2012.pdf
END:VEVENT
END:VCALENDAR
