BEGIN:VCALENDAR
VERSION:2.0
PRODID:https://kyudotermine.de/
BEGIN:VEVENT
UID:345@kyuvb.de
SUMMARY:Landeslehrgang für Makiwaraschützen
DESCRIPTION:Lehrgang mit Prüfung zum 4./5. Kyu
CLASS:PUBLIC
DTSTART;VALUE=DATE:20161105
DTEND;VALUE=DATE:20161106
DTSTAMP:20260420T091758Z
LOCATION:Weilheim
URL:https://kyudotermine.de/detail.php?id=345
ATTACH;FMTTYPE=application/pdf:https://kyuvb.de/../media/events/345/Pr%C3%BCfungslehrgangWM_Nov_16.pdf
END:VEVENT
END:VCALENDAR
