BEGIN:VCALENDAR
VERSION:2.0
PRODID:https://kyudotermine.de/
BEGIN:VEVENT
UID:35@kyuvb.de
SUMMARY:Mokuroku
DESCRIPTION:Mokuroku-Seminar
CLASS:PUBLIC
DTSTART;VALUE=DATE:20120602
DTEND;VALUE=DATE:20120604
DTSTAMP:20260419T202531Z
LOCATION:Bad Dürkheim
URL:https://kyudotermine.de/detail.php?id=35
ATTACH;FMTTYPE=application/pdf:https://kyuvb.de/../media/events/35/Mokuroku2012.pdf
END:VEVENT
END:VCALENDAR
