BEGIN:VCALENDAR
VERSION:2.0
PRODID:https://kyudotermine.de/
BEGIN:VEVENT
UID:368@kyuvb.de
SUMMARY:Nationalkaderlehrgang Kyudo und Sichtung
DESCRIPTION:Wettkampftraining und Sichtung für neue Interessenten
CLASS:PUBLIC
DTSTART;VALUE=DATE:20161112
DTEND;VALUE=DATE:20161114
DTSTAMP:20260420T091718Z
LOCATION:Berlin
URL:https://kyudotermine.de/detail.php?id=368
ATTACH;FMTTYPE=application/pdf:https://kyuvb.de/../media/events/368/Ausschreibung-Kaderlehrgang%20-Berlin-11-2016_V2.pdf
END:VEVENT
END:VCALENDAR
