BEGIN:VCALENDAR
VERSION:2.0
PRODID:https://kyudotermine.de/
BEGIN:VEVENT
UID:370@kyuvb.de
SUMMARY:Technik-Workshop
DESCRIPTION:Technik-Workshop mit
John C. Bush und Jeff Humm
CLASS:PUBLIC
DTSTART;VALUE=DATE:20161126
DTEND;VALUE=DATE:20161128
DTSTAMP:20260420T091709Z
LOCATION:Frankfurt
URL:https://kyudotermine.de/detail.php?id=370
ATTACH;FMTTYPE=application/pdf:https://kyuvb.de/../media/events/370/Ausschreibung_Technik_WS_J%26J_Nov-2016_V1.0.pdf
END:VEVENT
END:VCALENDAR
