BEGIN:VCALENDAR
VERSION:2.0
PRODID:https://kyudotermine.de/
BEGIN:VEVENT
UID:424@kyuvb.de
SUMMARY:Landeslehrgang
DESCRIPTION:Landeslehrgang mit Shigeyasu Kameo und Boris Proppe zum Thema "Verbesserung der Kihontai"
CLASS:PUBLIC
DTSTART;VALUE=DATE:20171202
DTEND;VALUE=DATE:20171204
DTSTAMP:20260421T081112Z
LOCATION:Berlin
URL:https://kyudotermine.de/detail.php?id=424
ATTACH;FMTTYPE=application/pdf:https://kyuvb.de/../media/events/424/Ausschreibung%20LaLe%202017.pdf
ATTACH;FMTTYPE=application/pdf:https://kyuvb.de/../media/events/424/Anreise-Unterkuenfte.pdf
ATTACH;FMTTYPE=application/pdf:https://kyuvb.de/../media/events/424/Meldeformular%20LL%202017.xls
END:VEVENT
END:VCALENDAR
