BEGIN:VCALENDAR
VERSION:2.0
PRODID:https://kyudotermine.de/
BEGIN:VEVENT
UID:427@kyuvb.de
SUMMARY:Prüfungsvorbereitungslehrgang
DESCRIPTION:Prüfungsvorbereitungslehrgang zum 1. und 2. Kyu mit anschließenden Prüfungen
CLASS:PUBLIC
DTSTART;VALUE=DATE:20171210
DTEND;VALUE=DATE:20171211
DTSTAMP:20260421T081321Z
LOCATION:Erkrath
URL:https://kyudotermine.de/detail.php?id=427
ATTACH;FMTTYPE=application/pdf:https://kyuvb.de/../media/events/427/Lehrg%201%20u%202%20Kyu%20und%20Pr%C3%BCfungen%20ab5.Kyu%2010.12.2017%20Erkrath.pdf
END:VEVENT
END:VCALENDAR
