BEGIN:VCALENDAR
VERSION:2.0
PRODID:https://kyudotermine.de/
BEGIN:VEVENT
UID:43@kyuvb.de
SUMMARY:Deutsche Meisterschaften
DESCRIPTION:Deutsche Einzel-/Mannschafts-/Kyu- und Sempai-Meisterschaften
CLASS:PUBLIC
DTSTART;VALUE=DATE:20120609
DTEND;VALUE=DATE:20120611
DTSTAMP:20260419T202702Z
LOCATION:Dresden
URL:https://kyudotermine.de/detail.php?id=43
ATTACH;FMTTYPE=application/pdf:https://kyuvb.de/../media/events/43/Ausschreibung%20DM%202012.pdf
END:VEVENT
END:VCALENDAR
