BEGIN:VCALENDAR
VERSION:2.0
PRODID:https://kyudotermine.de/
BEGIN:VEVENT
UID:44@kyuvb.de
SUMMARY:Landeslehrgang
DESCRIPTION:Landeslehrgang mit Prüfung bis 1. Kyu
CLASS:PUBLIC
DTSTART;VALUE=DATE:20120623
DTEND;VALUE=DATE:20120625
DTSTAMP:20260419T202532Z
LOCATION:Neuburg
URL:https://kyudotermine.de/detail.php?id=44
ATTACH;FMTTYPE=application/pdf:https://kyuvb.de/../media/events/44/Ausschreibung%20Pr%C3%BCfungslehrgang%202012.pdf
END:VEVENT
END:VCALENDAR
