BEGIN:VCALENDAR
VERSION:2.0
PRODID:https://kyudotermine.de/
BEGIN:VEVENT
UID:447@kyuvb.de
SUMMARY:Offene Meisterschaft und Kyudo-Workshop
DESCRIPTION:Ausschreibung noch nicht verfügbar.
CLASS:PUBLIC
DTSTART;VALUE=DATE:20060620
DTEND;VALUE=DATE:20060621
DTSTAMP:20260420T061339Z
LOCATION:Wien\, Österreich
URL:https://kyudotermine.de/detail.php?id=447
END:VEVENT
END:VCALENDAR
