BEGIN:VCALENDAR
VERSION:2.0
PRODID:https://kyudotermine.de/
BEGIN:VEVENT
UID:448@kyuvb.de
SUMMARY:Landeslehrgang mit Prüfung bis 3. Kyu
DESCRIPTION:Landeslehrgang zur Prüfungsvorbereitung\, anschließend Prüfung bis 3. Kyu
CLASS:PUBLIC
DTSTART;VALUE=DATE:20171209
DTEND;VALUE=DATE:20171211
DTSTAMP:20260421T081112Z
LOCATION:Germaringen
URL:https://kyudotermine.de/detail.php?id=448
ATTACH;FMTTYPE=application/pdf:https://kyuvb.de/../media/events/448/LL_Germaringen_3Kyu_Dez2017.pdf
END:VEVENT
END:VCALENDAR
