BEGIN:VCALENDAR
VERSION:2.0
PRODID:https://kyudotermine.de/
BEGIN:VEVENT
UID:45@kyuvb.de
SUMMARY:Sommer-Gasshuku
DESCRIPTION:Heki-Sommerseminar mit Sekine Sensei
CLASS:PUBLIC
DTSTART;VALUE=DATE:20120811
DTEND;VALUE=DATE:20120814
DTSTAMP:20260419T202532Z
LOCATION:Dresden
URL:https://kyudotermine.de/detail.php?id=45
ATTACH;FMTTYPE=application/pdf:https://kyuvb.de/../media/events/45/Anmeldeliste%20Sommer%20Dresden%201.xls
ATTACH;FMTTYPE=application/pdf:https://kyuvb.de/../media/events/45/Ausschreibung%20Sommerseminar%20Dresden%201.pdf
END:VEVENT
END:VCALENDAR
