BEGIN:VCALENDAR
VERSION:2.0
PRODID:https://kyudotermine.de/
BEGIN:VEVENT
UID:456@kyuvb.de
SUMMARY:Regionales EKF-Seminar
DESCRIPTION:Ausschreibung noch nicht verfügbar.
CLASS:PUBLIC
DTSTART;VALUE=DATE:20180623
DTEND;VALUE=DATE:20180625
DTSTAMP:20260419T131130Z
LOCATION:St. Petersburg\, Russland
URL:https://kyudotermine.de/detail.php?id=456
END:VEVENT
END:VCALENDAR
