BEGIN:VCALENDAR
VERSION:2.0
PRODID:https://kyudotermine.de/
BEGIN:VEVENT
UID:46@kyuvb.de
SUMMARY:Sommer-Gasshuku
DESCRIPTION:Heki-Sommerseminar mit Sekine Sensei
CLASS:PUBLIC
DTSTART;VALUE=DATE:20120815
DTEND;VALUE=DATE:20120818
DTSTAMP:20260419T204037Z
LOCATION:Dresden
URL:https://kyudotermine.de/detail.php?id=46
ATTACH;FMTTYPE=application/pdf:https://kyuvb.de/../media/events/46/Anmeldeliste%20Sommer%20Dresden%202.xls
ATTACH;FMTTYPE=application/pdf:https://kyuvb.de/../media/events/46/Ausschreibung%20Sommerseminar%20Dresden%202.pdf
END:VEVENT
END:VCALENDAR
