BEGIN:VCALENDAR
VERSION:2.0
PRODID:https://kyudotermine.de/
BEGIN:VEVENT
UID:47@kyuvb.de
SUMMARY:Offenes Seminar Wettkampf
DESCRIPTION:Offenes Wettkampf-Seminar mit Sato Sensei
CLASS:PUBLIC
DTSTART;VALUE=DATE:20120807
DTEND;VALUE=DATE:20120810
DTSTAMP:20260419T202537Z
LOCATION:Hamburg
URL:https://kyudotermine.de/detail.php?id=47
ATTACH;FMTTYPE=application/pdf:https://kyuvb.de/../media/events/47/Ausschreibung%20Heki-Sommerseminare%20Offen%20Wettkampf.pdf
ATTACH;FMTTYPE=application/pdf:https://kyuvb.de/../media/events/47/Offenes_Wettkampf-Sommerseminar-Hamburg_3.-5.8._Anmeldeliste-1.xls
END:VEVENT
END:VCALENDAR
