BEGIN:VCALENDAR
VERSION:2.0
PRODID:https://kyudotermine.de/
BEGIN:VEVENT
UID:48@kyuvb.de
SUMMARY:Trainer Sommerseminar
DESCRIPTION:Trainer-Seminar mit Sato Sensei
CLASS:PUBLIC
DTSTART;VALUE=DATE:20120803
DTEND;VALUE=DATE:20120806
DTSTAMP:20260419T202634Z
LOCATION:Hamburg
URL:https://kyudotermine.de/detail.php?id=48
ATTACH;FMTTYPE=application/pdf:https://kyuvb.de/../media/events/48/Ausschreibung%20Heki-Sommerseminare%20Trainer%20Hamburg.pdf
ATTACH;FMTTYPE=application/pdf:https://kyuvb.de/../media/events/48/Kopie%20von%20Heki_Trainer-Sommerseminar-Hamburg_3.-5.8._Anmeldeliste-1.xls
END:VEVENT
END:VCALENDAR
