BEGIN:VCALENDAR
VERSION:2.0
PRODID:https://kyudotermine.de/
BEGIN:VEVENT
UID:49@kyuvb.de
SUMMARY:Trainer Sommerseminar
DESCRIPTION:Trainer-Seminar mit Mori Sensei und Kurosu Sensei\, vorrangig für Wettkampftrainer
CLASS:PUBLIC
DTSTART;VALUE=DATE:20120815
DTEND;VALUE=DATE:20120818
DTSTAMP:20260419T221043Z
LOCATION:Stuttgart
URL:https://kyudotermine.de/detail.php?id=49
ATTACH;FMTTYPE=application/pdf:https://kyuvb.de/../media/events/49/DKyuB_Trainer-Wk-Sommerseminar-Stuttgart_15.-17.8._Ausschreibung.pdf
ATTACH;FMTTYPE=application/pdf:https://kyuvb.de/../media/events/49/Kopie%20von%20DKyuB_Trainer-Wk-Sommerseminar-Stuttgart_15.-17.8._Anmeldeliste.xls
ATTACH;FMTTYPE=application/pdf:https://kyuvb.de/../media/events/49/_Stuttgart_Hotels.pdf
END:VEVENT
END:VCALENDAR
