BEGIN:VCALENDAR
VERSION:2.0
PRODID:https://kyudotermine.de/
BEGIN:VEVENT
UID:50@kyuvb.de
SUMMARY:Trainer Sommerseminar
DESCRIPTION:Trainer-Seminar mit Mori Sensei und Kurosu Sensei\, für C-Trainer (Heki) oder C-Trainer in Ausbildung
CLASS:PUBLIC
DTSTART;VALUE=DATE:20120811
DTEND;VALUE=DATE:20120814
DTSTAMP:20260419T221124Z
LOCATION:Stuttgart
URL:https://kyudotermine.de/detail.php?id=50
ATTACH;FMTTYPE=application/pdf:https://kyuvb.de/../media/events/50/DKyuB_Trainer-C-Sommerseminar-Stuttgart_11.-13.8_Ausschreibung.pdf
ATTACH;FMTTYPE=application/pdf:https://kyuvb.de/../media/events/50/Kopie%20von%20DKyuB_Trainer-C-Sommerseminar-Stuttgart_11.-13.8._Anmeldeliste.xls
ATTACH;FMTTYPE=application/pdf:https://kyuvb.de/../media/events/50/_Stuttgart_Hotels.pdf
END:VEVENT
END:VCALENDAR
