BEGIN:VCALENDAR
VERSION:2.0
PRODID:https://kyudotermine.de/
BEGIN:VEVENT
UID:515@kyuvb.de
SUMMARY:70. Jubiläum der ANKF
DESCRIPTION:Details noch nicht bekannt.
CLASS:PUBLIC
DTSTART;VALUE=DATE:20190502
DTEND;VALUE=DATE:20190507
DTSTAMP:20260421T081152Z
LOCATION:Kyoto\, Japan
URL:https://kyudotermine.de/detail.php?id=515
END:VEVENT
END:VCALENDAR
