BEGIN:VCALENDAR
VERSION:2.0
PRODID:https://kyudotermine.de/
BEGIN:VEVENT
UID:52@kyuvb.de
SUMMARY:Offenes Sonntagstraining
DESCRIPTION:Training in Erlangen von 10:00 bis 14:00\, ab 9:30 aufbauen. Gäste aus anderen Vereinen willkommen\, 5 EUR / Person Beteiligung an Hallenmiete.
CLASS:PUBLIC
DTSTART;VALUE=DATE:20120715
DTEND;VALUE=DATE:20120716
DTSTAMP:20260419T202531Z
LOCATION:Erlangen
URL:https://kyudotermine.de/detail.php?id=52
END:VEVENT
END:VCALENDAR
