BEGIN:VCALENDAR
VERSION:2.0
PRODID:https://kyudotermine.de/
BEGIN:VEVENT
UID:524@kyuvb.de
SUMMARY:Landeslehrgang mit Prüfung bis 1. Kyu
DESCRIPTION:Prüfungslehrgang mit Lilo Reinhardt\, Irene Neumaier und Ingrid Haußner.
CLASS:PUBLIC
DTSTART;VALUE=DATE:20190615
DTEND;VALUE=DATE:20190617
DTSTAMP:20260421T082327Z
LOCATION:Neuburg a. d. Donau
URL:https://kyudotermine.de/detail.php?id=524
ATTACH;FMTTYPE=application/pdf:https://kyuvb.de/../media/events/524/2019%20Pr%C3%BCfungslehrgang%20ND.pdf
END:VEVENT
END:VCALENDAR
