BEGIN:VCALENDAR
VERSION:2.0
PRODID:https://kyudotermine.de/
BEGIN:VEVENT
UID:532@kyuvb.de
SUMMARY:Landeslehrgang zur Prüfungsvorbereitung 3.-1. Kyu
DESCRIPTION:Landeslehrgang mit anschließender Prüfung
CLASS:PUBLIC
DTSTART;VALUE=DATE:20190323
DTEND;VALUE=DATE:20190324
DTSTAMP:20260421T085733Z
LOCATION:Aachen
URL:https://kyudotermine.de/detail.php?id=532
ATTACH;FMTTYPE=application/pdf:https://kyuvb.de/../media/events/532/Ausschreibung_Pruefungslehrgang_3-1Kyu_2019.pdf
END:VEVENT
END:VCALENDAR
