BEGIN:VCALENDAR
VERSION:2.0
PRODID:https://kyudotermine.de/
BEGIN:VEVENT
UID:534@kyuvb.de
SUMMARY:Heki-Seminar II
DESCRIPTION:Heki-Technik-Seminar
CLASS:PUBLIC
DTSTART;VALUE=DATE:20190921
DTEND;VALUE=DATE:20190923
DTSTAMP:20260421T082237Z
LOCATION:Bad Dürkheim
URL:https://kyudotermine.de/detail.php?id=534
ATTACH;FMTTYPE=application/pdf:https://kyuvb.de/../media/events/534/Heki-Seminar%202019.pdf
END:VEVENT
END:VCALENDAR
