BEGIN:VCALENDAR
VERSION:2.0
PRODID:https://kyudotermine.de/
BEGIN:VEVENT
UID:536@kyuvb.de
SUMMARY:33. Bayerische Meisterschaften
DESCRIPTION:Mannschafts- und Einzelmeisterschaften für bayerische Kyudoka
CLASS:PUBLIC
DTSTART;VALUE=DATE:20190413
DTEND;VALUE=DATE:20190414
DTSTAMP:20260421T082207Z
LOCATION:Erlangen
URL:https://kyudotermine.de/detail.php?id=536
ATTACH;FMTTYPE=application/pdf:https://kyuvb.de/../media/events/536/Einladung_Bay_Meist_2019.pdf
ATTACH;FMTTYPE=application/pdf:https://kyuvb.de/../media/events/536/plakat_bayrische_meisterschaften_2019.pdf
END:VEVENT
END:VCALENDAR
