BEGIN:VCALENDAR
VERSION:2.0
PRODID:https://kyudotermine.de/
BEGIN:VEVENT
UID:537@kyuvb.de
SUMMARY:Taihai-Workshop
DESCRIPTION:Stilübergreifender Taihai-Workshop mit John C. Bush und Jeff Humm
CLASS:PUBLIC
DTSTART;VALUE=DATE:20190427
DTEND;VALUE=DATE:20190429
DTSTAMP:20260421T081233Z
LOCATION:Ingolstadt
URL:https://kyudotermine.de/detail.php?id=537
ATTACH;FMTTYPE=application/pdf:https://kyuvb.de/../media/events/537/Ausschreibung%20Workshop%20John%26Jeff%202019.pdf
END:VEVENT
END:VCALENDAR
