BEGIN:VCALENDAR
VERSION:2.0
PRODID:https://kyudotermine.de/
BEGIN:VEVENT
UID:54@kyuvb.de
SUMMARY:Sommer-Gasshuku
DESCRIPTION:Offenes Heki-Sommerseminar mit Kurosu Sensei
CLASS:PUBLIC
DTSTART;VALUE=DATE:20120819
DTEND;VALUE=DATE:20120822
DTSTAMP:20260419T202718Z
LOCATION:München
URL:https://kyudotermine.de/detail.php?id=54
ATTACH;FMTTYPE=application/pdf:https://kyuvb.de/../media/events/54/Ausschreibung_Sommerseminare_2012_M%C3%BCnchen.pdf
ATTACH;FMTTYPE=application/pdf:https://kyuvb.de/../media/events/54/Sommerseminar%20M%C3%BCnchen%202012_Anmeldeliste.xls
END:VEVENT
END:VCALENDAR
