BEGIN:VCALENDAR
VERSION:2.0
PRODID:https://kyudotermine.de/
BEGIN:VEVENT
UID:540@kyuvb.de
SUMMARY:Offenes Heki-Sommerseminar 2
DESCRIPTION:Heki-Seminar mit Yoshio Sekine
CLASS:PUBLIC
DTSTART;VALUE=DATE:20190809
DTEND;VALUE=DATE:20190812
DTSTAMP:20260421T081153Z
LOCATION:Dresden
URL:https://kyudotermine.de/detail.php?id=540
ATTACH;FMTTYPE=application/pdf:https://kyuvb.de/../media/events/540/2019%20Sommerseminare%20Dresden.pdf
ATTACH;FMTTYPE=application/pdf:https://kyuvb.de/../media/events/540/Excel-Anmeldetabelle%20Heki%20Sommerseminare%20Dresden%202019.xlsx
END:VEVENT
END:VCALENDAR
