BEGIN:VCALENDAR
VERSION:2.0
PRODID:https://kyudotermine.de/
BEGIN:VEVENT
UID:543@kyuvb.de
SUMMARY:4. Koi-Taikai
DESCRIPTION:Offener Einzelwettkampf
CLASS:PUBLIC
DTSTART;VALUE=DATE:20190501
DTEND;VALUE=DATE:20190502
DTSTAMP:20260421T082346Z
LOCATION:Düsseldorf
URL:https://kyudotermine.de/detail.php?id=543
ATTACH;FMTTYPE=application/pdf:https://kyuvb.de/../media/events/543/Ausschreibung-Koi-Taikai-01.05.2019.pdf
END:VEVENT
END:VCALENDAR
