BEGIN:VCALENDAR
VERSION:2.0
PRODID:https://kyudotermine.de/
BEGIN:VEVENT
UID:55@kyuvb.de
SUMMARY:Sommer-Gasshuku
DESCRIPTION:Offenes Heki-Sommerseminar mit Kurosu Sensei
CLASS:PUBLIC
DTSTART;VALUE=DATE:20120823
DTEND;VALUE=DATE:20120826
DTSTAMP:20260419T204043Z
LOCATION:München
URL:https://kyudotermine.de/detail.php?id=55
ATTACH;FMTTYPE=application/pdf:https://kyuvb.de/../media/events/55/Ausschreibung_Sommerseminare_2012_M%C3%BCnchen.pdf
ATTACH;FMTTYPE=application/pdf:https://kyuvb.de/../media/events/55/Sommerseminar%20M%C3%BCnchen%202012_Anmeldeliste.xls
END:VEVENT
END:VCALENDAR
