BEGIN:VCALENDAR
VERSION:2.0
PRODID:https://kyudotermine.de/
BEGIN:VEVENT
UID:551@kyuvb.de
SUMMARY:Kiyomoto Ogasawara
DESCRIPTION:Lehrgang zu Etikette und Kyudo der Ogasawara Ryu
CLASS:PUBLIC
DTSTART;VALUE=DATE:20190818
DTEND;VALUE=DATE:20190824
DTSTAMP:20260421T081326Z
LOCATION:Paris
URL:https://kyudotermine.de/detail.php?id=551
ATTACH;FMTTYPE=application/pdf:https://kyuvb.de/../media/events/551/OGASAWARA-PARIS2019-For%20EKF.pdf
ATTACH;FMTTYPE=application/pdf:https://kyuvb.de/../media/events/551/Ogasawara-PARIS2019-Kyudojo-de-Noisiel-EN-final.pdf
END:VEVENT
END:VCALENDAR
