BEGIN:VCALENDAR
VERSION:2.0
PRODID:https://kyudotermine.de/
BEGIN:VEVENT
UID:553@kyuvb.de
SUMMARY:Offenes Enteki-Training
DESCRIPTION:Freies Training mit Einweisung für Enteki-Anfänger
CLASS:PUBLIC
DTSTART;VALUE=DATE:20190804
DTEND;VALUE=DATE:20190805
DTSTAMP:20260421T081357Z
LOCATION:Weilheim
URL:https://kyudotermine.de/detail.php?id=553
ATTACH;FMTTYPE=application/pdf:https://kyuvb.de/../media/events/553/Enteki-Weilheim.pdf
END:VEVENT
END:VCALENDAR
