BEGIN:VCALENDAR
VERSION:2.0
PRODID:https://kyudotermine.de/
BEGIN:VEVENT
UID:562@kyuvb.de
SUMMARY:Landeslehrgang
DESCRIPTION:Landeslehrgang mit Roland Pohl
CLASS:PUBLIC
DTSTART;VALUE=DATE:20191026
DTEND;VALUE=DATE:20191028
DTSTAMP:20260421T082207Z
LOCATION:Kiel
URL:https://kyudotermine.de/detail.php?id=562
ATTACH;FMTTYPE=application/pdf:https://kyuvb.de/../media/events/562/Ausschreibung%20LL%20-%20Kiel_2019.pdf
END:VEVENT
END:VCALENDAR
