BEGIN:VCALENDAR
VERSION:2.0
PRODID:https://kyudotermine.de/
BEGIN:VEVENT
UID:58@kyuvb.de
SUMMARY:Rheingold-Taikai
DESCRIPTION:10-jähriges Jubiläum des Kyudovereins Neandertal mit Kyudo-Wettkampf und Rahmenprogramm.
CLASS:PUBLIC
DTSTART;VALUE=DATE:20120908
DTEND;VALUE=DATE:20120910
DTSTAMP:20260419T202645Z
LOCATION:Erkrath
URL:https://kyudotermine.de/detail.php?id=58
ATTACH;FMTTYPE=application/pdf:https://kyuvb.de/../media/events/58/Einladung%20Rheingold%20Wettkampfinfo.pdf
END:VEVENT
END:VCALENDAR
