BEGIN:VCALENDAR
VERSION:2.0
PRODID:https://kyudotermine.de/
BEGIN:VEVENT
UID:59@kyuvb.de
SUMMARY:Landeslehrgang
DESCRIPTION:Landeslehrgang zur Prüfungsvorbereitung für 1./2. Kyu mit anschließender Prüfung.
CLASS:PUBLIC
DTSTART;VALUE=DATE:20120923
DTEND;VALUE=DATE:20120924
DTSTAMP:20260419T221123Z
LOCATION:Wiesbaden
URL:https://kyudotermine.de/detail.php?id=59
ATTACH;FMTTYPE=application/pdf:https://kyuvb.de/../media/events/59/LL-Wiesbaden-20120923.pdf
END:VEVENT
END:VCALENDAR
