BEGIN:VCALENDAR
VERSION:2.0
PRODID:https://kyudotermine.de/
BEGIN:VEVENT
UID:60@kyuvb.de
SUMMARY:Frankfurt Open
DESCRIPTION:13. Frankfurt Open mit anschließendem Grillfest
CLASS:PUBLIC
DTSTART;VALUE=DATE:20120901
DTEND;VALUE=DATE:20120902
DTSTAMP:20260419T202701Z
LOCATION:Frankfurt
URL:https://kyudotermine.de/detail.php?id=60
ATTACH;FMTTYPE=application/pdf:https://kyuvb.de/../media/events/60/Ausschreibung_FFM_Open_2012.pdf
END:VEVENT
END:VCALENDAR
