BEGIN:VCALENDAR
VERSION:2.0
PRODID:https://kyudotermine.de/
BEGIN:VEVENT
UID:61@kyuvb.de
SUMMARY:Enteki-Meisterschaft
DESCRIPTION:21. Deutsche Enteki Meisterschaft und Training
CLASS:PUBLIC
DTSTART;VALUE=DATE:20120915
DTEND;VALUE=DATE:20120917
DTSTAMP:20260419T203332Z
LOCATION:Wolfsburg
URL:https://kyudotermine.de/detail.php?id=61
ATTACH;FMTTYPE=application/pdf:https://kyuvb.de/../media/events/61/Ausschreibung%20Enteki%20EM_2012.pdf
END:VEVENT
END:VCALENDAR
