BEGIN:VCALENDAR
VERSION:2.0
PRODID:https://kyudotermine.de/
BEGIN:VEVENT
UID:62@kyuvb.de
SUMMARY:Bundeslehrgang Heki-Taihai
DESCRIPTION:Bundeslehrgang Heki-Taihai mit Feliks Hoff und Connie Brandl-Hoff\, für Trainer und Dan-Graduierte
CLASS:PUBLIC
DTSTART;VALUE=DATE:20120929
DTEND;VALUE=DATE:20121001
DTSTAMP:20260419T202754Z
LOCATION:Hamburg
URL:https://kyudotermine.de/detail.php?id=62
ATTACH;FMTTYPE=application/pdf:https://kyuvb.de/../media/events/62/BuL%20Heki-Taihai%20HH%202012%2009.pdf
END:VEVENT
END:VCALENDAR
