BEGIN:VCALENDAR
VERSION:2.0
PRODID:https://kyudotermine.de/
BEGIN:VEVENT
UID:63@kyuvb.de
SUMMARY:Prüfungslehrgang
DESCRIPTION:Landeslehrgang mit Prüfung bis 3. Kyu
CLASS:PUBLIC
DTSTART;VALUE=DATE:20120929
DTEND;VALUE=DATE:20120930
DTSTAMP:20260419T221037Z
LOCATION:Pöcking
URL:https://kyudotermine.de/detail.php?id=63
ATTACH;FMTTYPE=application/pdf:https://kyuvb.de/../media/events/63/LL%20Pr%C3%BCfung%20bis%203.kyu%20September%202012.pdf
END:VEVENT
END:VCALENDAR
