BEGIN:VCALENDAR
VERSION:2.0
PRODID:https://kyudotermine.de/
BEGIN:VEVENT
UID:66@kyuvb.de
SUMMARY:Bundeslehrgang für Frauen
DESCRIPTION:Bundeslehrgang für Frauen mit Connie Brandl-Hoff und Dagmar Baer
CLASS:PUBLIC
DTSTART;VALUE=DATE:20121013
DTEND;VALUE=DATE:20121015
DTSTAMP:20260419T202700Z
LOCATION:Hamburg
URL:https://kyudotermine.de/detail.php?id=66
ATTACH;FMTTYPE=application/pdf:https://kyuvb.de/../media/events/66/BuL_Frauen_2012_09_HH_-Ausschreibung.pdf
END:VEVENT
END:VCALENDAR
